BEGIN:VCALENDAR
VERSION:2.0
PRODID:-//Kingdom House Christian Centre Church - ECPv6.15.12.2//NONSGML v1.0//EN
CALSCALE:GREGORIAN
METHOD:PUBLISH
X-WR-CALNAME:Kingdom House Christian Centre Church
X-ORIGINAL-URL:https://www.kingdomhouse.com
X-WR-CALDESC:Events for Kingdom House Christian Centre Church
REFRESH-INTERVAL;VALUE=DURATION:PT1H
X-Robots-Tag:noindex
X-PUBLISHED-TTL:PT1H
BEGIN:VTIMEZONE
TZID:America/Toronto
BEGIN:DAYLIGHT
TZOFFSETFROM:-0500
TZOFFSETTO:-0400
TZNAME:EDT
DTSTART:20200308T070000
END:DAYLIGHT
BEGIN:STANDARD
TZOFFSETFROM:-0400
TZOFFSETTO:-0500
TZNAME:EST
DTSTART:20201101T060000
END:STANDARD
BEGIN:DAYLIGHT
TZOFFSETFROM:-0500
TZOFFSETTO:-0400
TZNAME:EDT
DTSTART:20210314T070000
END:DAYLIGHT
BEGIN:STANDARD
TZOFFSETFROM:-0400
TZOFFSETTO:-0500
TZNAME:EST
DTSTART:20211107T060000
END:STANDARD
BEGIN:DAYLIGHT
TZOFFSETFROM:-0500
TZOFFSETTO:-0400
TZNAME:EDT
DTSTART:20220313T070000
END:DAYLIGHT
BEGIN:STANDARD
TZOFFSETFROM:-0400
TZOFFSETTO:-0500
TZNAME:EST
DTSTART:20221106T060000
END:STANDARD
END:VTIMEZONE
BEGIN:VTIMEZONE
TZID:UTC
BEGIN:STANDARD
TZOFFSETFROM:+0000
TZOFFSETTO:+0000
TZNAME:UTC
DTSTART:20190101T000000
END:STANDARD
END:VTIMEZONE
BEGIN:VEVENT
DTSTART;TZID=America/Toronto:20210125T193000
DTEND;TZID=America/Toronto:20210125T210000
DTSTAMP:20260425T213913
CREATED:20210127T033844Z
LAST-MODIFIED:20210127T033844Z
UID:3364-1611603000-1611608400@www.kingdomhouse.com
SUMMARY:Corporate Prayer & Fasting
DESCRIPTION:Let’s join together online as the body of Christ in a week of Prayer & Fasting.\nMonday January 25th to Friday January 29th at 7:30pm on Zoom\nSaturday January 30th at 10:00am on Zoom\nZoom Link\nOr via Phone +1 647 374 4685\nMeeting ID: 886 4422 2619\nPasscode: 887054\nFor more details and how to pray & fast\, click this link.
URL:https://www.kingdomhouse.com/events/corporate-prayer-fasting/
ATTACH;FMTTYPE=:
END:VEVENT
BEGIN:VEVENT
DTSTART;TZID=America/Toronto:20210125T193000
DTEND;TZID=America/Toronto:20210125T210000
DTSTAMP:20260425T213913
CREATED:20210127T033844Z
LAST-MODIFIED:20210127T033844Z
UID:3364-1611603000-1611608400@www.kingdomhouse.com
SUMMARY:Corporate Prayer & Fasting
DESCRIPTION:Let’s join together online as the body of Christ in a week of Prayer & Fasting.\nMonday January 25th to Friday January 29th at 7:30pm on Zoom\nSaturday January 30th at 10:00am on Zoom\nZoom Link\nOr via Phone +1 647 374 4685\nMeeting ID: 886 4422 2619\nPasscode: 887054\nFor more details and how to pray & fast\, click this link.
URL:https://www.kingdomhouse.com/events/corporate-prayer-fasting/
ATTACH;FMTTYPE=:
END:VEVENT
BEGIN:VEVENT
DTSTART;TZID=America/Toronto:20210125T193000
DTEND;TZID=America/Toronto:20210125T210000
DTSTAMP:20260425T213913
CREATED:20210127T033844Z
LAST-MODIFIED:20210127T033844Z
UID:3364-1611603000-1611608400@www.kingdomhouse.com
SUMMARY:Corporate Prayer & Fasting
DESCRIPTION:Let’s join together online as the body of Christ in a week of Prayer & Fasting.\nMonday January 25th to Friday January 29th at 7:30pm on Zoom\nSaturday January 30th at 10:00am on Zoom\nZoom Link\nOr via Phone +1 647 374 4685\nMeeting ID: 886 4422 2619\nPasscode: 887054\nFor more details and how to pray & fast\, click this link.
URL:https://www.kingdomhouse.com/events/corporate-prayer-fasting/
ATTACH;FMTTYPE=:
END:VEVENT
BEGIN:VEVENT
DTSTART;TZID=UTC:20210125T190000
DTEND;TZID=UTC:20210125T213000
DTSTAMP:20260425T213913
CREATED:20210109T032428Z
LAST-MODIFIED:20210109T032428Z
UID:2222-1611601200-1611610200@www.kingdomhouse.com
SUMMARY:Celebrate Recovery Program
DESCRIPTION:Celebrate Recovery is a Christ-centered\, 12 step recovery program for anyone struggling with Hurts\, Hang-ups & Habits.  \nThe goal of this ministry is to celebrate God’s healing power in our lives through the “8 Recovery Principles.” This experience allows us to “be changed.” By working and applying these Biblical principles\, we begin to grow spiritually and become free from our compulsive and dysfunctional behaviors. This freedom creates peace\, serenity\, joy and most importantly\, a stronger personal relationship with God and others. Click here for more information & registration details. Space is limited\, so please register early!
URL:https://www.kingdomhouse.com/events/celebrate-recovery-registration/
CATEGORIES:Event Registration
ATTACH;FMTTYPE=:
ORGANIZER;CN="Administration":MAILTO:info@kingdomhouse.com
END:VEVENT
BEGIN:VEVENT
DTSTART;TZID=America/Toronto:20210103T111500
DTEND;TZID=America/Toronto:20210103T124500
DTSTAMP:20260425T213913
CREATED:20210127T031516Z
LAST-MODIFIED:20210127T031516Z
UID:3247-1609672500-1609677900@www.kingdomhouse.com
SUMMARY:Online Worship Experience
DESCRIPTION:Let’s Worship Together online at 11:15am!\nJoin the livestream https://www.youtube.com/kingdomhouse/live
URL:https://www.kingdomhouse.com/events/online-worship-experience/
ATTACH;FMTTYPE=:
ORGANIZER;CN="Administration":MAILTO:info@kingdomhouse.com
END:VEVENT
BEGIN:VEVENT
DTSTART;TZID=America/Toronto:20210122T200000
DTEND;TZID=America/Toronto:20210122T220000
DTSTAMP:20260425T213913
CREATED:20210210T195402Z
LAST-MODIFIED:20210210T195402Z
UID:4851-1611345600-1611352800@www.kingdomhouse.com
SUMMARY:Impact Youth
DESCRIPTION:Weekly on Fridays @ 8:00pm via Zoom.\nDirect Message on Instagram at “@impactyouthkhcc” or email us at impactyouth@kingdomhouse.com for the login details.
URL:https://www.kingdomhouse.com/events/e-impact-youth/
ATTACH;FMTTYPE=:
ORGANIZER;CN="Impact Youth":MAILTO:impactyouth@kingdomhouse.com
END:VEVENT
BEGIN:VEVENT
DTSTART;TZID=America/Toronto:20210108T200000
DTEND;TZID=America/Toronto:20210108T213000
DTSTAMP:20260425T213913
CREATED:20210208T183230Z
LAST-MODIFIED:20230202T011050Z
UID:4287-1610136000-1610141400@www.kingdomhouse.com
SUMMARY:Friday Night Virtual Corporate Prayer
DESCRIPTION:Plug Into the Power of Prayer\nJoin us for a time of weekly corporate prayer & worship virtually via Google Hangouts Meet.\nWeekly Prayer Conference Details\nhttps://meet.google.com/qct-vqsm-ktq\nOR Telephone number: +1 647-736-5462\nConference ID/PIN: 143 025 345#\nFor dial-in numbers outside Canada see International Numbers
URL:https://www.kingdomhouse.com/events/virtual-corporate-prayer/
CATEGORIES:Outreach
ATTACH;FMTTYPE=image/png:https://www.kingdomhouse.com/wp-content/uploads/2021/02/friday-nite-prayer.png
ORGANIZER;CN="Corporate Prayer":MAILTO:care@kingdomhouse.com
END:VEVENT
BEGIN:VEVENT
DTSTART;TZID=America/Toronto:20210108T190000
DTEND;TZID=America/Toronto:20210108T203000
DTSTAMP:20260425T213913
CREATED:20210208T185620Z
LAST-MODIFIED:20210208T185620Z
UID:4649-1610132400-1610137800@www.kingdomhouse.com
SUMMARY:Ignite JR. High on Zoom
DESCRIPTION:Our grade 6-8 students are connecting weekly virtually via Zoom for Ignite Live!\nFor confidentiality reasons\, please email us at family@kingdomhouse.com for login details.
URL:https://www.kingdomhouse.com/events/ignite-jr-high-on-zoom/
ATTACH;FMTTYPE=:
ORGANIZER;CN="Ignite Jr High":MAILTO:family@kingdomhouse.com
END:VEVENT
BEGIN:VEVENT
DTSTART;TZID=America/Toronto:20210107T190000
DTEND;TZID=America/Toronto:20210107T203000
DTSTAMP:20260425T213913
CREATED:20210208T184505Z
LAST-MODIFIED:20210208T184505Z
UID:4404-1610046000-1610051400@www.kingdomhouse.com
SUMMARY:Young Adults Virtual Meet-Up
DESCRIPTION:We invite you to join us as we spend time in the word & fellowship together at our virtual bi-weekly meetup.\nEmail us at youngadults@kingdomhouse.com to be added to the mail list & receive virtual meeting details.
URL:https://www.kingdomhouse.com/events/young-adults-meet-up/
ATTACH;FMTTYPE=:
ORGANIZER;CN="Young Adult Ministry":MAILTO:youngadults@kingdomhouse.com
END:VEVENT
BEGIN:VEVENT
DTSTART;TZID=America/Toronto:20210103T111500
DTEND;TZID=America/Toronto:20210103T124500
DTSTAMP:20260425T213913
CREATED:20210127T031516Z
LAST-MODIFIED:20210127T031516Z
UID:3247-1609672500-1609677900@www.kingdomhouse.com
SUMMARY:Online Worship Experience
DESCRIPTION:Let’s Worship Together online at 11:15am!\nJoin the livestream https://www.youtube.com/kingdomhouse/live
URL:https://www.kingdomhouse.com/events/online-worship-experience/
ATTACH;FMTTYPE=:
ORGANIZER;CN="Administration":MAILTO:info@kingdomhouse.com
END:VEVENT
BEGIN:VEVENT
DTSTART;TZID=America/Toronto:20210108T200000
DTEND;TZID=America/Toronto:20210108T213000
DTSTAMP:20260425T213914
CREATED:20210208T183230Z
LAST-MODIFIED:20230202T011050Z
UID:4287-1610136000-1610141400@www.kingdomhouse.com
SUMMARY:Friday Night Virtual Corporate Prayer
DESCRIPTION:Plug Into the Power of Prayer\nJoin us for a time of weekly corporate prayer & worship virtually via Google Hangouts Meet.\nWeekly Prayer Conference Details\nhttps://meet.google.com/qct-vqsm-ktq\nOR Telephone number: +1 647-736-5462\nConference ID/PIN: 143 025 345#\nFor dial-in numbers outside Canada see International Numbers
URL:https://www.kingdomhouse.com/events/virtual-corporate-prayer/
CATEGORIES:Outreach
ATTACH;FMTTYPE=image/png:https://www.kingdomhouse.com/wp-content/uploads/2021/02/friday-nite-prayer.png
ORGANIZER;CN="Corporate Prayer":MAILTO:care@kingdomhouse.com
END:VEVENT
BEGIN:VEVENT
DTSTART;TZID=America/Toronto:20210108T190000
DTEND;TZID=America/Toronto:20210108T203000
DTSTAMP:20260425T213914
CREATED:20210208T185620Z
LAST-MODIFIED:20210208T185620Z
UID:4649-1610132400-1610137800@www.kingdomhouse.com
SUMMARY:Ignite JR. High on Zoom
DESCRIPTION:Our grade 6-8 students are connecting weekly virtually via Zoom for Ignite Live!\nFor confidentiality reasons\, please email us at family@kingdomhouse.com for login details.
URL:https://www.kingdomhouse.com/events/ignite-jr-high-on-zoom/
ATTACH;FMTTYPE=:
ORGANIZER;CN="Ignite Jr High":MAILTO:family@kingdomhouse.com
END:VEVENT
BEGIN:VEVENT
DTSTART;TZID=America/Toronto:20210103T111500
DTEND;TZID=America/Toronto:20210103T124500
DTSTAMP:20260425T213914
CREATED:20210127T031516Z
LAST-MODIFIED:20210127T031516Z
UID:3247-1609672500-1609677900@www.kingdomhouse.com
SUMMARY:Online Worship Experience
DESCRIPTION:Let’s Worship Together online at 11:15am!\nJoin the livestream https://www.youtube.com/kingdomhouse/live
URL:https://www.kingdomhouse.com/events/online-worship-experience/
ATTACH;FMTTYPE=:
ORGANIZER;CN="Administration":MAILTO:info@kingdomhouse.com
END:VEVENT
BEGIN:VEVENT
DTSTART;TZID=America/Toronto:20210108T200000
DTEND;TZID=America/Toronto:20210108T213000
DTSTAMP:20260425T213914
CREATED:20210208T183230Z
LAST-MODIFIED:20230202T011050Z
UID:4287-1610136000-1610141400@www.kingdomhouse.com
SUMMARY:Friday Night Virtual Corporate Prayer
DESCRIPTION:Plug Into the Power of Prayer\nJoin us for a time of weekly corporate prayer & worship virtually via Google Hangouts Meet.\nWeekly Prayer Conference Details\nhttps://meet.google.com/qct-vqsm-ktq\nOR Telephone number: +1 647-736-5462\nConference ID/PIN: 143 025 345#\nFor dial-in numbers outside Canada see International Numbers
URL:https://www.kingdomhouse.com/events/virtual-corporate-prayer/
CATEGORIES:Outreach
ATTACH;FMTTYPE=image/png:https://www.kingdomhouse.com/wp-content/uploads/2021/02/friday-nite-prayer.png
ORGANIZER;CN="Corporate Prayer":MAILTO:care@kingdomhouse.com
END:VEVENT
BEGIN:VEVENT
DTSTART;TZID=America/Toronto:20210108T190000
DTEND;TZID=America/Toronto:20210108T203000
DTSTAMP:20260425T213914
CREATED:20210208T185620Z
LAST-MODIFIED:20210208T185620Z
UID:4649-1610132400-1610137800@www.kingdomhouse.com
SUMMARY:Ignite JR. High on Zoom
DESCRIPTION:Our grade 6-8 students are connecting weekly virtually via Zoom for Ignite Live!\nFor confidentiality reasons\, please email us at family@kingdomhouse.com for login details.
URL:https://www.kingdomhouse.com/events/ignite-jr-high-on-zoom/
ATTACH;FMTTYPE=:
ORGANIZER;CN="Ignite Jr High":MAILTO:family@kingdomhouse.com
END:VEVENT
BEGIN:VEVENT
DTSTART;TZID=America/Toronto:20210107T190000
DTEND;TZID=America/Toronto:20210107T203000
DTSTAMP:20260425T213914
CREATED:20210208T184505Z
LAST-MODIFIED:20210208T184505Z
UID:4404-1610046000-1610051400@www.kingdomhouse.com
SUMMARY:Young Adults Virtual Meet-Up
DESCRIPTION:We invite you to join us as we spend time in the word & fellowship together at our virtual bi-weekly meetup.\nEmail us at youngadults@kingdomhouse.com to be added to the mail list & receive virtual meeting details.
URL:https://www.kingdomhouse.com/events/young-adults-meet-up/
ATTACH;FMTTYPE=:
ORGANIZER;CN="Young Adult Ministry":MAILTO:youngadults@kingdomhouse.com
END:VEVENT
BEGIN:VEVENT
DTSTART;TZID=America/Toronto:20210103T111500
DTEND;TZID=America/Toronto:20210103T124500
DTSTAMP:20260425T213914
CREATED:20210127T031516Z
LAST-MODIFIED:20210127T031516Z
UID:3247-1609672500-1609677900@www.kingdomhouse.com
SUMMARY:Online Worship Experience
DESCRIPTION:Let’s Worship Together online at 11:15am!\nJoin the livestream https://www.youtube.com/kingdomhouse/live
URL:https://www.kingdomhouse.com/events/online-worship-experience/
ATTACH;FMTTYPE=:
ORGANIZER;CN="Administration":MAILTO:info@kingdomhouse.com
END:VEVENT
BEGIN:VEVENT
DTSTART;VALUE=DATE:20201226
DTEND;VALUE=DATE:20201227
DTSTAMP:20260425T213914
CREATED:20201218T043107Z
LAST-MODIFIED:20201218T043107Z
UID:1002-1608940800-1609027199@www.kingdomhouse.com
SUMMARY:Care Ministry
DESCRIPTION:Do you have a need in your life or family?\nWe care\, let us know how we can assist.\n“Bear one another’s burdens\, and so fulfill the law of Christ.”\nGalatians 6:2
URL:https://www.kingdomhouse.com/events/1002/
LOCATION:Kingdom House Christian Centre\, 40 Holtby Ave. Unit 3A\, Brampton\, ON\, Canada
ATTACH;FMTTYPE=:
ORGANIZER;CN="Administration":MAILTO:info@kingdomhouse.com
END:VEVENT
BEGIN:VEVENT
DTSTART;TZID=UTC:20201106T080000
DTEND;TZID=UTC:20201106T170000
DTSTAMP:20260425T213914
CREATED:20201105T042130Z
LAST-MODIFIED:20201105T042130Z
UID:343-1604649600-1604682000@www.kingdomhouse.com
SUMMARY:Covid Relief Benefit
DESCRIPTION:
URL:https://www.kingdomhouse.com/events/covid-relief-benefit/
LOCATION:Kingdom House Christian Centre\, 40 Holtby Ave. Unit 3A\, Brampton\, ON\, Canada
ATTACH;FMTTYPE=:
ORGANIZER;CN="Lola":MAILTO:info@kingdomhouse.com
END:VEVENT
END:VCALENDAR